Workbook
Name Ämter: 'Stammdaten Berechnung'!$K$5:$L$41
Name Erntekosten: 'Futterzukauf 2026'!$P$31
Name Ertrag25: 'Berechnung Ernteverlust'!$B$32
Name Ertrag26: 'Berechnung Ernteverlust'!$F$32
Name ErtragErwartet: 'Berechnung Ernteverlust'!$C$32
Name Fläche25: 'Berechnung Ernteverlust'!$D$32
Name Fläche26: 'Berechnung Ernteverlust'!$E$32
Name Fördersatz: Fördersätze!$C$4
Name Futterkosten: 'Futterzukauf 2026'!$F$31
Name Futtermangel26: 'Plausibilisierung Futterbedarf'!$G$8
Name MaxSchadenssumme: Fördersätze!$C$3
Name MErnteersparnis: 'Stammdaten Berechnung'!$G$17
Name MTMGehalt: 'Stammdaten Berechnung'!$F$6:$G$9
Name TK20bis100: 'Stammdaten Berechnung'!$G$13
Name TK2bis20: 'Stammdaten Berechnung'!$G$12
Name TKüber100: 'Stammdaten Berechnung'!$G$14
Name Transport3: 'Futterzukauf 2026'!$M$31
Name Transportkosten: 'Futterzukauf 2026'!$O$31
Name TransportkostenF: 'Futterzukauf 2026'!$L$31
Name Verkauf25: 'Plausibilisierung Futterbedarf'!$F$7
Name Verkauf26: 'Plausibilisierung Futterbedarf'!$F$8
Name Verlust: 'Berechnung Ernteverlust'!$H$32
Name VerlustProzent: 'Berechnung Ernteverlust'!$G$32
Name Zukauf25: 'Plausibilisierung Futterbedarf'!$E$7
Name ZulässigerVerkauf: 'Anlage 1'!$B$20

Sheet Anlage 1
A1: Anlage 1: Berechnungsprogramm zur Futtermittelhilfe | D1: V. 22.10.26
A3: Zuständiges Amt
A4: Amts-ID | B4: =IFERROR(VLOOKUP(B3,Ämter,2,FALSE),"")
A6: Betrieb | E6: Hinweise
A7: Name
A8: Straße, Nr
A9: PLZ, Ort
A10: Unternehmens-Nr | B10: 08
A11: Biogasanlage vorhanden?
A12: Bewirtschaftungsform | E12: =IF(B12="","bitte ausfüllen , da sonst keine Berechnung möglich ist!","") -> bitte ausfüllen , da sonst keine Berechnung möglich ist!
A14: Eingangsdatum ULB
A16: Erwarteter Ertrag 2026 (Fläche 2026 * Referenzertrag) | B16: =SUMPRODUCT('Berechnung Ernteverlust'!E6:E31,'Berechnung Ernteverlust'!C6:C31) -> 0 | C16: dt TM
A17: Ertrag 2026 | B17: =Ertrag26 -> 0 | C17: dt TM
A18: Ertragsverlust | B18: =B16-Ertrag26 -> 0 | C18: dt TM
A19: Ertragsverlust | B19: =IFERROR(100/ErtragErwartet*Verlust,0) -> 0 | C19: %
A20: Zulässiger Futterverkauf | B20: =Verkauf25/100*(100-VerlustProzent) -> 0 | C20: dt TM
A21: Futterverkauf gesamt 2026 | B21: =Verkauf26 -> 0 | C21: dt TM
A22: regulärer Zukauf | B22: =SUMIF('Futterzukauf 2026'!$B$6:$B$30,"regulär",'Futterzukauf 2026'!K6:K30) -> 0 | C22: dt TM
A23: erforderlicher regulärer Zukauf | B23: =Zukauf25*(100-B19)/100 -> 0 | C23: dt TM
A24: Dürrebedingter Futterverluste 2026 | B24: =Verlust -> 0 | C24: dt TM
A25: Dürrebedingter Futterverluste 2026 | B25: ='Berechnung Ernteverlust'!G32 -> 0 | C25: %
A26: Dürrebedingter Futterzukauf 2026 | B26: ='Futterzukauf 2026'!K31 -> 0 | C26: dt TM | E26: =IF(B26>B27,"dürrebedingter Futterzukauf übersteigt den berücksichtigungsfähigen Ertragsverlust","")
A27: Berücksichtigungsfähiger Ertragsverlust 2026 | B27: =IF(B20>B21,B18,B18-B21+B20) -> 0 | C27: dt TM
A29: Futtergrundlage überwiegend Mais (>50%) | B29: =IF(SUM('Berechnung Ernteverlust'!E6:E8)>SUM('Berechnung Ernteverlust'!E10:E31),"ja","nein") -> nein
A30: Silomais gegen Hagel versichert? | E30: =IF(B29="nein","",IF(B30="","bitte ausfüllen , da sonst keine Berechnung möglich ist!",""))
A31: evtl Kürzung um 50% wenn keine Versicherung gegen Hagel | B31: =IF(AND(B29="ja",B30="nein"),"ja","nein") -> nein
A33: Dürrebedingter Futterzukauf 2026 | B33: =IF(OR(B26>B27,B23>B22),0,Futterkosten+Transportkosten+TransportkostenF-Erntekosten-Transport3) -> 0 | C33: € | E33: =IF(B26>B27,"maximale beihilfefähige Zukaufsmenge überschritten",IF(B23>B22,"nicht ausreichend regulärer Zukauf!",""))
A34: anderweitig erhaltene Leistungen (Versicherung etc.) | C34: €
A35: Beihilfeberechtigter Futterzukauf 2026 | B35: =IFERROR(B33-B34,0) -> 0 | C35: €
A36: förderfähige Dürrebedingter Futterzukauf 2026 | B36: =IF(B35<2500,0,IF(B35>MaxSchadenssumme,MaxSchadenssumme,B35)) -> 0 | C36: € | E36: =IF(B35>MaxSchadenssumme,"Maximale beihilfefähiger Futterzukauf von "&MaxSchadenssumme&"€ überschritten!",IF(B35<2500,"Mindestschadensumme nicht erreicht!","")) -> Mindestschadensumme nicht erreicht!
A37: Beihilfesatz | B37: =IF(B25>=30,Fördersatz,0) -> 0 | C37: % | E37: max 50%, unter Vorbehalt der zur Verfügung stehenden Haushaltsmittel und der tatsächlich eingegangenen Anträge
A38: Beihilfe | B38: =IF(B31="ja",(ROUNDDOWN(IF(B26<=B24,B36/100*B37,0),2)/2),(ROUNDDOWN(IF(B26<=B24,B36/100*B37,0),2))) -> 0 | C38: € | D38: =IF(B31="ja","Beihilfesatz um 50% gekürzt, da Mais als überwiegende Futtergrundlage nicht versichert!","")
A42: Unterschrift Antragssteller
A44: Die Ordnungsmäßigkeit des Zuwendungsbetrags in untenstehender Höhe wird durch die untere Landwirtschaftsbehörde (ULB) bestätigt.
A48: Zuwendungsdatum
A50: Zuwendungsbetrag | B50: =B38 -> 0 | D50: €
D51: Version 1.1

Sheet Berechnung Ernteverlust
A1: dürrebedingte Ernteverluste 2026
C4: ='Anlage 1'!B12 -> 0
A5: Grobfutterarten | B5: Ertragsniveau | C5: Referenzertrag (dt TM/ha) | D5: Fläche laut GA 2025 (ha) | E5: Fläche laut GA 2026 (ha) | F5: Ertrag 2026 (dt TM/ha) | G5: Dürreverluste (%) | H5: Dürreverluste (dt TM)
A6: Silomais | B6: niedrig | C6: =IF('Anlage 1'!$B$12="konventionell",'Stammdaten Berechnung'!C6,IF('Anlage 1'!$B$12="ökologisch",'Stammdaten Berechnung'!D6,HYPERLINK("#'Stammdaten Betrieb'!B12", "Bewirtschaftungsform wählen"))) -> Bewirtschaftungsform wählen | F6: =IFERROR(C6/100*(100-G6),0) -> 0 | H6: =IF((F6+E6)=0,"",E6*C6-F6*E6)
B7: mittel | C7: =IF('Anlage 1'!$B$12="konventionell",'Stammdaten Berechnung'!C7,IF('Anlage 1'!$B$12="ökologisch",'Stammdaten Berechnung'!D7,HYPERLINK("#'Stammdaten Betrieb'!B12", "Bewirtschaftungsform wählen"))) -> Bewirtschaftungsform wählen | F7: =IFERROR(C7/100*(100-G7),0) -> 0 | H7: =IF((F7+E7)=0,"",E7*C7-F7*E7)
B8: hoch | C8: =IF('Anlage 1'!$B$12="konventionell",'Stammdaten Berechnung'!C8,IF('Anlage 1'!$B$12="ökologisch",'Stammdaten Berechnung'!D8,HYPERLINK("#'Stammdaten Betrieb'!B12", "Bewirtschaftungsform wählen"))) -> Bewirtschaftungsform wählen | F8: =IFERROR(C8/100*(100-G8),0) -> 0 | H8: =IF((F8+E8)=0,"",E8*C8-F8*E8)
A9: Ackerfutter
A10: Kleegras/Luzernegras (50:50) | B10: 3 Schnitte | C10: =IF('Anlage 1'!$B$12="konventionell",'Stammdaten Berechnung'!C10,IF('Anlage 1'!$B$12="ökologisch",'Stammdaten Berechnung'!D10,HYPERLINK("#'Stammdaten Betrieb'!B12", "Bewirtschaftungsform wählen"))) -> Bewirtschaftungsform wählen | F10: =IFERROR(C10/100*(100-G10),0) -> 0 | H10: =IF((F10+E10)=0,"",E10*C10-F10*E10)
B11: 4 Schnitte | C11: =IF('Anlage 1'!$B$12="konventionell",'Stammdaten Berechnung'!C11,IF('Anlage 1'!$B$12="ökologisch",'Stammdaten Berechnung'!D11,HYPERLINK("#'Stammdaten Betrieb'!B12", "Bewirtschaftungsform wählen"))) -> Bewirtschaftungsform wählen | F11: =IFERROR(C11/100*(100-G11),0) -> 0 | H11: =IF((F11+E11)=0,"",E11*C11-F11*E11)
B12: 5 Schnitte | C12: =IF('Anlage 1'!$B$12="konventionell",'Stammdaten Berechnung'!C12,IF('Anlage 1'!$B$12="ökologisch",'Stammdaten Berechnung'!D12,HYPERLINK("#'Stammdaten Betrieb'!B12", "Bewirtschaftungsform wählen"))) -> Bewirtschaftungsform wählen | F12: =IFERROR(C12/100*(100-G12),0) -> 0 | H12: =IF((F12+E12)=0,"",E12*C12-F12*E12)
A13: Ackergras | B13: 3 Schnitte | C13: =IF('Anlage 1'!$B$12="konventionell",'Stammdaten Berechnung'!C13,IF('Anlage 1'!$B$12="ökologisch",'Stammdaten Berechnung'!D13,HYPERLINK("#'Stammdaten Betrieb'!B12", "Bewirtschaftungsform wählen"))) -> Bewirtschaftungsform wählen | F13: =IFERROR(C13/100*(100-G13),0) -> 0 | H13: =IF((F13+E13)=0,"",E13*C13-F13*E13)
B14: 4 Schnitte | C14: =IF('Anlage 1'!$B$12="konventionell",'Stammdaten Berechnung'!C14,IF('Anlage 1'!$B$12="ökologisch",'Stammdaten Berechnung'!D14,HYPERLINK("#'Stammdaten Betrieb'!B12", "Bewirtschaftungsform wählen"))) -> Bewirtschaftungsform wählen | F14: =IFERROR(C14/100*(100-G14),0) -> 0 | H14: =IF((F14+E14)=0,"",E14*C14-F14*E14)
B15: 5 Schnitte | C15: =IF('Anlage 1'!$B$12="konventionell",'Stammdaten Berechnung'!C15,IF('Anlage 1'!$B$12="ökologisch",'Stammdaten Berechnung'!D15,HYPERLINK("#'Stammdaten Betrieb'!B12", "Bewirtschaftungsform wählen"))) -> Bewirtschaftungsform wählen | F15: =IFERROR(C15/100*(100-G15),0) -> 0 | H15: =IF((F15+E15)=0,"",E15*C15-F15*E15)
A16: Klee/Luzerne | B16: niedrig | C16: =IF('Anlage 1'!$B$12="konventionell",'Stammdaten Berechnung'!C16,IF('Anlage 1'!$B$12="ökologisch",'Stammdaten Berechnung'!D16,HYPERLINK("#'Stammdaten Betrieb'!B12", "Bewirtschaftungsform wählen"))) -> Bewirtschaftungsform wählen | F16: =IFERROR(C16/100*(100-G16),0) -> 0 | H16: =IF((F16+E16)=0,"",E16*C16-F16*E16)
B17: hoch | C17: =IF('Anlage 1'!$B$12="konventionell",'Stammdaten Berechnung'!C17,IF('Anlage 1'!$B$12="ökologisch",'Stammdaten Berechnung'!D17,HYPERLINK("#'Stammdaten Betrieb'!B12", "Bewirtschaftungsform wählen"))) -> Bewirtschaftungsform wählen | F17: =IFERROR(C17/100*(100-G17),0) -> 0 | H17: =IF((F17+E17)=0,"",E17*C17-F17*E17)
A18: Grünland (Grünfutter/Heu/Silage) | B18: 2 Schnitte | C18: =IF('Anlage 1'!$B$12="konventionell",'Stammdaten Berechnung'!C18,IF('Anlage 1'!$B$12="ökologisch",'Stammdaten Berechnung'!D18,HYPERLINK("#'Stammdaten Betrieb'!B12", "Bewirtschaftungsform wählen"))) -> Bewirtschaftungsform wählen | F18: =IFERROR(C18/100*(100-G18),0) -> 0 | H18: =IF((F18+E18)=0,"",E18*C18-F18*E18)
B19: 3 Schnitte | C19: =IF('Anlage 1'!$B$12="konventionell",'Stammdaten Berechnung'!C19,IF('Anlage 1'!$B$12="ökologisch",'Stammdaten Berechnung'!D19,HYPERLINK("#'Stammdaten Betrieb'!B12", "Bewirtschaftungsform wählen"))) -> Bewirtschaftungsform wählen | F19: =IFERROR(C19/100*(100-G19),0) -> 0 | H19: =IF((F19+E19)=0,"",E19*C19-F19*E19)
B20: 4 Schnitte | C20: =IF('Anlage 1'!$B$12="konventionell",'Stammdaten Berechnung'!C20,IF('Anlage 1'!$B$12="ökologisch",'Stammdaten Berechnung'!D20,HYPERLINK("#'Stammdaten Betrieb'!B12", "Bewirtschaftungsform wählen"))) -> Bewirtschaftungsform wählen | F20: =IFERROR(C20/100*(100-G20),0) -> 0 | H20: =IF((F20+E20)=0,"",E20*C20-F20*E20)
B21: 5 Schnitte | C21: =IF('Anlage 1'!$B$12="konventionell",'Stammdaten Berechnung'!C21,IF('Anlage 1'!$B$12="ökologisch",'Stammdaten Berechnung'!D21,HYPERLINK("#'Stammdaten Betrieb'!B12", "Bewirtschaftungsform wählen"))) -> Bewirtschaftungsform wählen | F21: =IFERROR(C21/100*(100-G21),0) -> 0 | H21: =IF((F21+E21)=0,"",E21*C21-F21*E21)
B22: 6 Schnitte | C22: =IF('Anlage 1'!$B$12="konventionell",'Stammdaten Berechnung'!C22,IF('Anlage 1'!$B$12="ökologisch",'Stammdaten Berechnung'!D22,HYPERLINK("#'Stammdaten Betrieb'!B12", "Bewirtschaftungsform wählen"))) -> Bewirtschaftungsform wählen | F22: =IFERROR(C22/100*(100-G22),0) -> 0 | H22: =IF((F22+E22)=0,"",E22*C22-F22*E22)
A23: Weide | B23: extensiv ungünstig | C23: =IF('Anlage 1'!$B$12="konventionell",'Stammdaten Berechnung'!C23,IF('Anlage 1'!$B$12="ökologisch",'Stammdaten Berechnung'!D23,HYPERLINK("#'Stammdaten Betrieb'!B12", "Bewirtschaftungsform wählen"))) -> Bewirtschaftungsform wählen | F23: =IFERROR(C23/100*(100-G23),0) -> 0 | H23: =IF((F23+E23)=0,"",E23*C23-F23*E23)
B24: extensiv günstig | C24: =IF('Anlage 1'!$B$12="konventionell",'Stammdaten Berechnung'!C24,IF('Anlage 1'!$B$12="ökologisch",'Stammdaten Berechnung'!D24,HYPERLINK("#'Stammdaten Betrieb'!B12", "Bewirtschaftungsform wählen"))) -> Bewirtschaftungsform wählen | F24: =IFERROR(C24/100*(100-G24),0) -> 0 | H24: =IF((F24+E24)=0,"",E24*C24-F24*E24)
B25: intensiv ungünstig | C25: =IF('Anlage 1'!$B$12="konventionell",'Stammdaten Berechnung'!C25,IF('Anlage 1'!$B$12="ökologisch",'Stammdaten Berechnung'!D25,HYPERLINK("#'Stammdaten Betrieb'!B12", "Bewirtschaftungsform wählen"))) -> Bewirtschaftungsform wählen | F25: =IFERROR(C25/100*(100-G25),0) -> 0 | H25: =IF((F25+E25)=0,"",E25*C25-F25*E25)
B26: intensiv günstig | C26: =IF('Anlage 1'!$B$12="konventionell",'Stammdaten Berechnung'!C26,IF('Anlage 1'!$B$12="ökologisch",'Stammdaten Berechnung'!D26,HYPERLINK("#'Stammdaten Betrieb'!B12", "Bewirtschaftungsform wählen"))) -> Bewirtschaftungsform wählen | F26: =IFERROR(C26/100*(100-G26),0) -> 0 | H26: =IF((F26+E26)=0,"",E26*C26-F26*E26)
A27: GPS | B27: niedrig | C27: =IF('Anlage 1'!$B$12="konventionell",'Stammdaten Berechnung'!C27,IF('Anlage 1'!$B$12="ökologisch",'Stammdaten Berechnung'!D27,HYPERLINK("#'Stammdaten Betrieb'!B12", "Bewirtschaftungsform wählen"))) -> Bewirtschaftungsform wählen | F27: =IFERROR(C27/100*(100-G27),0) -> 0 | H27: =IF((F27+E27)=0,"",E27*C27-F27*E27)
B28: mittel | C28: =IF('Anlage 1'!$B$12="konventionell",'Stammdaten Berechnung'!C28,IF('Anlage 1'!$B$12="ökologisch",'Stammdaten Berechnung'!D28,HYPERLINK("#'Stammdaten Betrieb'!B12", "Bewirtschaftungsform wählen"))) -> Bewirtschaftungsform wählen | F28: =IFERROR(C28/100*(100-G28),0) -> 0 | H28: =IF((F28+E28)=0,"",E28*C28-F28*E28)
B29: hoch | C29: =IF('Anlage 1'!$B$12="konventionell",'Stammdaten Berechnung'!C29,IF('Anlage 1'!$B$12="ökologisch",'Stammdaten Berechnung'!D29,HYPERLINK("#'Stammdaten Betrieb'!B12", "Bewirtschaftungsform wählen"))) -> Bewirtschaftungsform wählen | F29: =IFERROR(C29/100*(100-G29),0) -> 0 | H29: =IF((F29+E29)=0,"",E29*C29-F29*E29)
A30: Mähweide (2 Nutzung) | B30: niedrig | C30: =IF('Anlage 1'!$B$12="konventionell",'Stammdaten Berechnung'!C30,IF('Anlage 1'!$B$12="ökologisch",'Stammdaten Berechnung'!D30,HYPERLINK("#'Stammdaten Betrieb'!B12", "Bewirtschaftungsform wählen"))) -> Bewirtschaftungsform wählen | F30: =IFERROR(C30/100*(100-G30),0) -> 0 | H30: =IF((F30+E30)=0,"",E30*C30-F30*E30)
B31: hoch | C31: =IF('Anlage 1'!$B$12="konventionell",'Stammdaten Berechnung'!C31,IF('Anlage 1'!$B$12="ökologisch",'Stammdaten Berechnung'!D31,HYPERLINK("#'Stammdaten Betrieb'!B12", "Bewirtschaftungsform wählen"))) -> Bewirtschaftungsform wählen | F31: =IFERROR(C31/100*(100-G31),0) -> 0 | H31: =IF((F31+E31)=0,"",E31*C31-F31*E31)
B32: =SUMPRODUCT(C6:C31,D6:D31) -> 0 | C32: =SUMPRODUCT(E6:E31,C6:C31) -> 0 | D32: =SUM(D6:D31) -> 0 | E32: =SUM(E6:E31) -> 0 | F32: =SUMPRODUCT(F6:F31,E6:E31) -> 0 | G32: =IFERROR(100-100/SUMPRODUCT(E6:E31,C6:C31)*SUMPRODUCT(F6:F31,E6:E31),) -> 0 | H32: =SUM(H6:H31) -> 0
B33: Gesamtertrag 2025 | C33: Erwarteter Ertrag 2026 | D33: Anbaufläche 2025 | E33: Anbaufläche 2026 | F33: tatsächlicher Ertrag 2026 | G33: Verluste in % | H33: Ertragsverlust 2026
F39: Berechnung plausibilisiert durch ULB
F42: Datum
F44: Name

Sheet Plausibilisierung Futterbedarf
A1: Plausibilisierung Futterbedarf
B4: Futterbedarf (dt TM/RGV&Jahr) | C4: 47.45 | D4: Quelle: LAZBW
A6: Jahr | B6: Tierbestand (RGV) laut GA | C6: Futterbedarf für die Tierhaltung (dt TM) | D6: Futtererzeugung (dt TM) | E6: Futterzukauf (dt TM) | F6: Futterverkauf/Verwendung Biogas (dt TM) | G6: Futterbilanz | H6: %
A7: 2025 | C7: =B7*C4 -> 0 | D7: ='Berechnung Ernteverlust'!B32 -> 0 | E7: ='Futterzukauf 2025'!F31 -> 0 | F7: ='Futterverkauf 2025'!F31 -> 0 | G7: =D7+E7-C7-F7 -> 0 | H7: =IFERROR(100/C7*G7,"")
A8: 2026 | C8: =B8*C4 -> 0 | D8: ='Berechnung Ernteverlust'!F32 -> 0 | E8: =SUM('Futterzukauf 2026'!K6:K30) -> 0 | F8: ='Futterverkauf 2026'!F31 -> 0 | G8: =D8+E8-C8-MIN(Verkauf26,ZulässigerVerkauf) -> 0 | H8: =IFERROR(100/C8*G8,"")
G12: Angaben plausibilisiert durch ULB
G15: Datum
G17: Name

Sheet Futterzukauf 2026
A1: Futterzukauf 2026
A2: Hinweis: Hier sind alle Grobfutterzukäufe im Jahr 2026 auszuweisen.
Q4: 46204
A5: Lieferant | B5: Art des Grobfutterzukaufes | C5: Lieferdatum | D5: Rechnungsdatum | E5: Rechnungsnummer | F5: Rechnungsbetrag (netto) | G5: Menge (dt FM) | H5: Futtermittel | I5: TM Gehalt | J5: Lieferbedingungen | K5: Menge (dt TM) | L5: Transportkosten durch Dritte (€) | M5: eingesparte Transportkosten bei Fremdtransport | N5: Eigentransport einfache Entfernung (km) | O5: Transportkosten über 2 km | P5: eingesparte Erntekosten | Q5: förderfähig?
I6: =IFERROR(VLOOKUP(H6,MTMGehalt,2,FALSE),) -> 0 | K6: =G6/100*I6 -> 0 | M6: =IF(Q6="ja",IF(N6=0,IF(G6*TK2bis20*2<0,0,G6*TK2bis20*2),""),"") | O6: =IF(Q6="ja",IF(OR(J6="stehend, ab Feld",J6="geerntet, ab Hof/Feld"),IF(N6<2,0,IF(N6<20,(N6-2)*TK2bis20,IF(N6<100,18*TK2bis20+(N6-20)*TK20bis100,18*TK2bis20+80*TK20bis100+(N6-100)*TKüber100)))*G6,""),"") | P6: =IF(Q6="ja",IF(OR(J6="geerntet, ab Hof/Feld",J6="frei Hof"),IFERROR(K6*MErnteersparnis,),""),"") | Q6: =IF(C6<$Q$4,"nein",IF(K6=0,"nein",IF(B6="dürrebedingt","ja","nein"))) -> nein
I7: =IFERROR(VLOOKUP(H7,MTMGehalt,2,FALSE),) -> 0 | K7: =G7/100*I7 -> 0 | M7: =IF(Q7="ja",IF(N7=0,IF(G7*TK2bis20*2<0,0,G7*TK2bis20*2),""),"") | O7: =IF(Q7="ja",IF(OR(J7="stehend, ab Feld",J7="geerntet, ab Hof/Feld"),IF(N7<2,0,IF(N7<20,(N7-2)*TK2bis20,IF(N7<100,18*TK2bis20+(N7-20)*TK20bis100,18*TK2bis20+80*TK20bis100+(N7-100)*TKüber100)))*G7,""),"") | P7: =IF(Q7="ja",IF(OR(J7="geerntet, ab Hof/Feld",J7="frei Hof"),IFERROR(K7*MErnteersparnis,),""),"") | Q7: =IF(C7<$Q$4,"nein",IF(K7=0,"nein",IF(B7="dürrebedingt","ja","nein"))) -> nein
I8: =IFERROR(VLOOKUP(H8,MTMGehalt,2,FALSE),) -> 0 | K8: =G8/100*I8 -> 0 | M8: =IF(Q8="ja",IF(N8=0,IF(G8*TK2bis20*2<0,0,G8*TK2bis20*2),""),"") | O8: =IF(Q8="ja",IF(OR(J8="stehend, ab Feld",J8="geerntet, ab Hof/Feld"),IF(N8<2,0,IF(N8<20,(N8-2)*TK2bis20,IF(N8<100,18*TK2bis20+(N8-20)*TK20bis100,18*TK2bis20+80*TK20bis100+(N8-100)*TKüber100)))*G8,""),"") | P8: =IF(Q8="ja",IF(OR(J8="geerntet, ab Hof/Feld",J8="frei Hof"),IFERROR(K8*MErnteersparnis,),""),"") | Q8: =IF(C8<$Q$4,"nein",IF(K8=0,"nein",IF(B8="dürrebedingt","ja","nein"))) -> nein
I9: =IFERROR(VLOOKUP(H9,MTMGehalt,2,FALSE),) -> 0 | K9: =G9/100*I9 -> 0 | M9: =IF(Q9="ja",IF(N9=0,IF(G9*TK2bis20*2<0,0,G9*TK2bis20*2),""),"") | O9: =IF(Q9="ja",IF(OR(J9="stehend, ab Feld",J9="geerntet, ab Hof/Feld"),IF(N9<2,0,IF(N9<20,(N9-2)*TK2bis20,IF(N9<100,18*TK2bis20+(N9-20)*TK20bis100,18*TK2bis20+80*TK20bis100+(N9-100)*TKüber100)))*G9,""),"") | P9: =IF(Q9="ja",IF(OR(J9="geerntet, ab Hof/Feld",J9="frei Hof"),IFERROR(K9*MErnteersparnis,),""),"") | Q9: =IF(C9<$Q$4,"nein",IF(K9=0,"nein",IF(B9="dürrebedingt","ja","nein"))) -> nein
I10: =IFERROR(VLOOKUP(H10,MTMGehalt,2,FALSE),) -> 0 | K10: =G10/100*I10 -> 0 | M10: =IF(Q10="ja",IF(N10=0,IF(G10*TK2bis20*2<0,0,G10*TK2bis20*2),""),"") | O10: =IF(Q10="ja",IF(OR(J10="stehend, ab Feld",J10="geerntet, ab Hof/Feld"),IF(N10<2,0,IF(N10<20,(N10-2)*TK2bis20,IF(N10<100,18*TK2bis20+(N10-20)*TK20bis100,18*TK2bis20+80*TK20bis100+(N10-100)*TKüber100)))*G10,""),"") | P10: =IF(Q10="ja",IF(OR(J10="geerntet, ab Hof/Feld",J10="frei Hof"),IFERROR(K10*MErnteersparnis,),""),"") | Q10: =IF(C10<$Q$4,"nein",IF(K10=0,"nein",IF(B10="dürrebedingt","ja","nein"))) -> nein
I11: =IFERROR(VLOOKUP(H11,MTMGehalt,2,FALSE),) -> 0 | K11: =G11/100*I11 -> 0 | M11: =IF(Q11="ja",IF(N11=0,IF(G11*TK2bis20*2<0,0,G11*TK2bis20*2),""),"") | O11: =IF(Q11="ja",IF(OR(J11="stehend, ab Feld",J11="geerntet, ab Hof/Feld"),IF(N11<2,0,IF(N11<20,(N11-2)*TK2bis20,IF(N11<100,18*TK2bis20+(N11-20)*TK20bis100,18*TK2bis20+80*TK20bis100+(N11-100)*TKüber100)))*G11,""),"") | P11: =IF(Q11="ja",IF(OR(J11="geerntet, ab Hof/Feld",J11="frei Hof"),IFERROR(K11*MErnteersparnis,),""),"") | Q11: =IF(C11<$Q$4,"nein",IF(K11=0,"nein",IF(B11="dürrebedingt","ja","nein"))) -> nein
I12: =IFERROR(VLOOKUP(H12,MTMGehalt,2,FALSE),) -> 0 | K12: =G12/100*I12 -> 0 | M12: =IF(Q12="ja",IF(N12=0,IF(G12*TK2bis20*2<0,0,G12*TK2bis20*2),""),"") | O12: =IF(Q12="ja",IF(OR(J12="stehend, ab Feld",J12="geerntet, ab Hof/Feld"),IF(N12<2,0,IF(N12<20,(N12-2)*TK2bis20,IF(N12<100,18*TK2bis20+(N12-20)*TK20bis100,18*TK2bis20+80*TK20bis100+(N12-100)*TKüber100)))*G12,""),"") | P12: =IF(Q12="ja",IF(OR(J12="geerntet, ab Hof/Feld",J12="frei Hof"),IFERROR(K12*MErnteersparnis,),""),"") | Q12: =IF(C12<$Q$4,"nein",IF(K12=0,"nein",IF(B12="dürrebedingt","ja","nein"))) -> nein
I13: =IFERROR(VLOOKUP(H13,MTMGehalt,2,FALSE),) -> 0 | K13: =G13/100*I13 -> 0 | M13: =IF(Q13="ja",IF(N13=0,IF(G13*TK2bis20*2<0,0,G13*TK2bis20*2),""),"") | O13: =IF(Q13="ja",IF(OR(J13="stehend, ab Feld",J13="geerntet, ab Hof/Feld"),IF(N13<2,0,IF(N13<20,(N13-2)*TK2bis20,IF(N13<100,18*TK2bis20+(N13-20)*TK20bis100,18*TK2bis20+80*TK20bis100+(N13-100)*TKüber100)))*G13,""),"") | P13: =IF(Q13="ja",IF(OR(J13="geerntet, ab Hof/Feld",J13="frei Hof"),IFERROR(K13*MErnteersparnis,),""),"") | Q13: =IF(C13<$Q$4,"nein",IF(K13=0,"nein",IF(B13="dürrebedingt","ja","nein"))) -> nein
I14: =IFERROR(VLOOKUP(H14,MTMGehalt,2,FALSE),) -> 0 | K14: =G14/100*I14 -> 0 | M14: =IF(Q14="ja",IF(N14=0,IF(G14*TK2bis20*2<0,0,G14*TK2bis20*2),""),"") | O14: =IF(Q14="ja",IF(OR(J14="stehend, ab Feld",J14="geerntet, ab Hof/Feld"),IF(N14<2,0,IF(N14<20,(N14-2)*TK2bis20,IF(N14<100,18*TK2bis20+(N14-20)*TK20bis100,18*TK2bis20+80*TK20bis100+(N14-100)*TKüber100)))*G14,""),"") | P14: =IF(Q14="ja",IF(OR(J14="geerntet, ab Hof/Feld",J14="frei Hof"),IFERROR(K14*MErnteersparnis,),""),"") | Q14: =IF(C14<$Q$4,"nein",IF(K14=0,"nein",IF(B14="dürrebedingt","ja","nein"))) -> nein
I15: =IFERROR(VLOOKUP(H15,MTMGehalt,2,FALSE),) -> 0 | K15: =G15/100*I15 -> 0 | M15: =IF(Q15="ja",IF(N15=0,IF(G15*TK2bis20*2<0,0,G15*TK2bis20*2),""),"") | O15: =IF(Q15="ja",IF(OR(J15="stehend, ab Feld",J15="geerntet, ab Hof/Feld"),IF(N15<2,0,IF(N15<20,(N15-2)*TK2bis20,IF(N15<100,18*TK2bis20+(N15-20)*TK20bis100,18*TK2bis20+80*TK20bis100+(N15-100)*TKüber100)))*G15,""),"") | P15: =IF(Q15="ja",IF(OR(J15="geerntet, ab Hof/Feld",J15="frei Hof"),IFERROR(K15*MErnteersparnis,),""),"") | Q15: =IF(C15<$Q$4,"nein",IF(K15=0,"nein",IF(B15="dürrebedingt","ja","nein"))) -> nein
I16: =IFERROR(VLOOKUP(H16,MTMGehalt,2,FALSE),) -> 0 | K16: =G16/100*I16 -> 0 | M16: =IF(Q16="ja",IF(N16=0,IF(G16*TK2bis20*2<0,0,G16*TK2bis20*2),""),"") | O16: =IF(Q16="ja",IF(OR(J16="stehend, ab Feld",J16="geerntet, ab Hof/Feld"),IF(N16<2,0,IF(N16<20,(N16-2)*TK2bis20,IF(N16<100,18*TK2bis20+(N16-20)*TK20bis100,18*TK2bis20+80*TK20bis100+(N16-100)*TKüber100)))*G16,""),"") | P16: =IF(Q16="ja",IF(OR(J16="geerntet, ab Hof/Feld",J16="frei Hof"),IFERROR(K16*MErnteersparnis,),""),"") | Q16: =IF(C16<$Q$4,"nein",IF(K16=0,"nein",IF(B16="dürrebedingt","ja","nein"))) -> nein
I17: =IFERROR(VLOOKUP(H17,MTMGehalt,2,FALSE),) -> 0 | K17: =G17/100*I17 -> 0 | M17: =IF(Q17="ja",IF(N17=0,IF(G17*TK2bis20*2<0,0,G17*TK2bis20*2),""),"") | O17: =IF(Q17="ja",IF(OR(J17="stehend, ab Feld",J17="geerntet, ab Hof/Feld"),IF(N17<2,0,IF(N17<20,(N17-2)*TK2bis20,IF(N17<100,18*TK2bis20+(N17-20)*TK20bis100,18*TK2bis20+80*TK20bis100+(N17-100)*TKüber100)))*G17,""),"") | P17: =IF(Q17="ja",IF(OR(J17="geerntet, ab Hof/Feld",J17="frei Hof"),IFERROR(K17*MErnteersparnis,),""),"") | Q17: =IF(C17<$Q$4,"nein",IF(K17=0,"nein",IF(B17="dürrebedingt","ja","nein"))) -> nein
... I30: =IFERROR(VLOOKUP(H30,MTMGehalt,2,FALSE),) -> 0 | K30: =G30/100*I30 -> 0 | M30: =IF(Q30="ja",IF(N30=0,IF(G30*TK2bis20*2<0,0,G30*TK2bis20*2),""),"") | O30: =IF(Q30="ja",IF(OR(J30="stehend, ab Feld",J30="geerntet, ab Hof/Feld"),IF(N30<2,0,IF(N30<20,(N30-2)*TK2bis20,IF(N30<100,18*TK2bis20+(N30-20)*TK20bis100,18*TK2bis20+80*TK20bis100+(N30-100)*TKüber100)))*G30,""),"") | P30: =IF(Q30="ja",IF(OR(J30="geerntet, ab Hof/Feld",J30="frei Hof"),IFERROR(K30*MErnteersparnis,),""),"") | Q30: =IF(C30<$Q$4,"nein",IF(K30=0,"nein",IF(B30="dürrebedingt","ja","nein"))) -> nein
F31: =IF(K31>K35,0,SUMIF(Q6:Q30,"ja",F6:F30)) -> 0 | G31: =SUMIF(Q6:Q30,"ja",G6:G30) -> 0 | K31: =SUMIF($Q$6:$Q$30,"ja",K6:K30) -> 0 | L31: =SUMIF($Q$6:$Q$30,"ja",L6:L30) -> 0 | M31: =SUM(M6:M30) -> 0 | O31: =SUM(O6:O30) -> 0 | P31: =SUM(P6:P30) -> 0
F32: Summe Rechungsbeträge beihilfefähiger Zukäufe | K32: dürrebedingter Zukauf gesamt (dt TM) | L32: anrechenbare Transportkosten (€) durch Dritte | O32: anrechenbare Transportkosten (€) | P32: eingesparte Erntekosten
K34: max Förderfähig (dt TM)
K35: ='Anlage 1'!B27 -> 0
E36: =IF(K31>K35,"Beihilfefähige Menge überschritten, bitte mehr Zukäufe als regulär deklarieren!","") | O36: Angaben plausibilisiert durch ULB
O39: Datum
K40: =IF(F40>F39,"nicht ausreichend regulärer Zukauf!","")
O41: Name

Sheet Futterverkauf 2026
A1: Futterverkauf 2026
A5: Abnehmer | B5: Lieferdatum | C5: Menge (dt FM) | D5: Futtermittel | E5: TM Gehalt | F5: Menge (dt TM)
E6: =IFERROR(VLOOKUP(D6,MTMGehalt,2,FALSE),) -> 0 | F6: =C6/100*E6 -> 0
E7: =IFERROR(VLOOKUP(D7,MTMGehalt,2,FALSE),) -> 0 | F7: =C7/100*E7 -> 0
E8: =IFERROR(VLOOKUP(D8,MTMGehalt,2,FALSE),) -> 0 | F8: =C8/100*E8 -> 0
E9: =IFERROR(VLOOKUP(D9,MTMGehalt,2,FALSE),) -> 0 | F9: =C9/100*E9 -> 0
E10: =IFERROR(VLOOKUP(D10,MTMGehalt,2,FALSE),) -> 0 | F10: =C10/100*E10 -> 0
E11: =IFERROR(VLOOKUP(D11,MTMGehalt,2,FALSE),) -> 0 | F11: =C11/100*E11 -> 0
E12: =IFERROR(VLOOKUP(D12,MTMGehalt,2,FALSE),) -> 0 | F12: =C12/100*E12 -> 0
E13: =IFERROR(VLOOKUP(D13,MTMGehalt,2,FALSE),) -> 0 | F13: =C13/100*E13 -> 0
E14: =IFERROR(VLOOKUP(D14,MTMGehalt,2,FALSE),) -> 0 | F14: =C14/100*E14 -> 0
E15: =IFERROR(VLOOKUP(D15,MTMGehalt,2,FALSE),) -> 0 | F15: =C15/100*E15 -> 0
E16: =IFERROR(VLOOKUP(D16,MTMGehalt,2,FALSE),) -> 0 | F16: =C16/100*E16 -> 0
E17: =IFERROR(VLOOKUP(D17,MTMGehalt,2,FALSE),) -> 0 | F17: =C17/100*E17 -> 0
... E30: =IFERROR(VLOOKUP(D30,MTMGehalt,2,FALSE),) -> 0 | F30: =C30/100*E30 -> 0
F31: =SUM(F6:F30) -> 0
F32: Verkauf gesamt (dt TM)
C37: Angaben plausibilisiert durch ULB
C40: Datum
C42: Name

Sheet Futterzukauf 2025
A1: Futterzukauf 2025
A5: Lieferant | B5: Lieferdatum | C5: Menge (dt FM) | D5: Futtermittel | E5: TM Gehalt | F5: Menge (dt TM)
E6: =IFERROR(VLOOKUP(D6,MTMGehalt,2,FALSE),) -> 0 | F6: =C6/100*E6 -> 0
E7: =IFERROR(VLOOKUP(D7,MTMGehalt,2,FALSE),) -> 0 | F7: =C7/100*E7 -> 0
E8: =IFERROR(VLOOKUP(D8,MTMGehalt,2,FALSE),) -> 0 | F8: =C8/100*E8 -> 0
E9: =IFERROR(VLOOKUP(D9,MTMGehalt,2,FALSE),) -> 0 | F9: =C9/100*E9 -> 0
E10: =IFERROR(VLOOKUP(D10,MTMGehalt,2,FALSE),) -> 0 | F10: =C10/100*E10 -> 0
E11: =IFERROR(VLOOKUP(D11,MTMGehalt,2,FALSE),) -> 0 | F11: =C11/100*E11 -> 0
E12: =IFERROR(VLOOKUP(D12,MTMGehalt,2,FALSE),) -> 0 | F12: =C12/100*E12 -> 0
E13: =IFERROR(VLOOKUP(D13,MTMGehalt,2,FALSE),) -> 0 | F13: =C13/100*E13 -> 0
E14: =IFERROR(VLOOKUP(D14,MTMGehalt,2,FALSE),) -> 0 | F14: =C14/100*E14 -> 0
E15: =IFERROR(VLOOKUP(D15,MTMGehalt,2,FALSE),) -> 0 | F15: =C15/100*E15 -> 0
E16: =IFERROR(VLOOKUP(D16,MTMGehalt,2,FALSE),) -> 0 | F16: =C16/100*E16 -> 0
E17: =IFERROR(VLOOKUP(D17,MTMGehalt,2,FALSE),) -> 0 | F17: =C17/100*E17 -> 0
... E30: =IFERROR(VLOOKUP(D30,MTMGehalt,2,FALSE),) -> 0 | F30: =C30/100*E30 -> 0
F31: =SUM(F6:F30) -> 0
F32: regulärer Zukauf gesamt (dt TM)
C37: Angaben plausibilisiert durch ULB
C40: Datum
C42: Name

Sheet Futterverkauf 2025
A1: Futterverkauf 2025
A5: Abnehmer | B5: Lieferdatum | C5: Menge (dt FM) | D5: Futtermittel | E5: TM Gehalt | F5: Menge (dt TM)
E6: =IFERROR(VLOOKUP(D6,MTMGehalt,2,FALSE),) -> 0 | F6: =C6/100*E6 -> 0
E7: =IFERROR(VLOOKUP(D7,MTMGehalt,2,FALSE),) -> 0 | F7: =C7/100*E7 -> 0
E8: =IFERROR(VLOOKUP(D8,MTMGehalt,2,FALSE),) -> 0 | F8: =C8/100*E8 -> 0
E9: =IFERROR(VLOOKUP(D9,MTMGehalt,2,FALSE),) -> 0 | F9: =C9/100*E9 -> 0
E10: =IFERROR(VLOOKUP(D10,MTMGehalt,2,FALSE),) -> 0 | F10: =C10/100*E10 -> 0
E11: =IFERROR(VLOOKUP(D11,MTMGehalt,2,FALSE),) -> 0 | F11: =C11/100*E11 -> 0
E12: =IFERROR(VLOOKUP(D12,MTMGehalt,2,FALSE),) -> 0 | F12: =C12/100*E12 -> 0
E13: =IFERROR(VLOOKUP(D13,MTMGehalt,2,FALSE),) -> 0 | F13: =C13/100*E13 -> 0
E14: =IFERROR(VLOOKUP(D14,MTMGehalt,2,FALSE),) -> 0 | F14: =C14/100*E14 -> 0
E15: =IFERROR(VLOOKUP(D15,MTMGehalt,2,FALSE),) -> 0 | F15: =C15/100*E15 -> 0
E16: =IFERROR(VLOOKUP(D16,MTMGehalt,2,FALSE),) -> 0 | F16: =C16/100*E16 -> 0
E17: =IFERROR(VLOOKUP(D17,MTMGehalt,2,FALSE),) -> 0 | F17: =C17/100*E17 -> 0
... E30: =IFERROR(VLOOKUP(D30,MTMGehalt,2,FALSE),) -> 0 | F30: =C30/100*E30 -> 0
F31: =SUM(F6:F30) -> 0
F32: Verkauf gesamt (dt TM)
C37: Angaben plausibilisiert durch ULB
C40: Datum
C42: Name

Sheet Fördersätze
B2: Fördersätze/-grenzen
B3: Maximale Schadenssumme | C3: 100000 | D3: €
B4: Fördersatz | C4: 50 | D4: %

Sheet Stammdaten Berechnung
A1: Referenzerträge Dürrehilfe 2026
A2: auf Basis des 3 jährigen Mittels
C4: konventionell | D4: ökologisch | J4: Ämter
A5: Grobfutterarten | B5: Ertragsniveau | C5: Referenzertrag für Dürrehilfe 2026 dt TM/ha (brutto) | D5: Referenzertrag für Dürrehilfe 2026 dt TM/ha (brutto) | F5: TM- Gehalte Grobfutter
A6: Silomais | B6: niedrig | C6: 120 | D6: 80 | F6: Heu | G6: 86 | H6: % | J6: 1101 | K6: LRA Ostalbkreis ULB | L6: 1101
B7: mittel | C7: 150 | D7: 120 | F7: Silage (Gras/Mais) | G7: 35 | H7: % | J7: 1110 | K7: LRA Rems-Murr-Kreis ULB | L7: 1110
B8: hoch | C8: 180 | D8: 150 | F8: Frischgras | G8: 18 | H8: % | J8: 1121 | K8: LRA Main-Tauber-Kreis | L8: 1121
A9: Ackerfutter | J9: 1130 | K9: LRA Göppingen ULB | L9: 1130
A10: Kleegras/Luzernegras (50:50) | B10: 3 Schnitte | C10: 75 | D10: 70 | J10: 1140 | K10: LRA Heidenheim ULB | L10: 1140
B11: 4 Schnitte | C11: 100 | D11: 100 | F11: Transportkosten | J11: 1150 | K11: LRA Heilbronn | L11: 1150
B12: 5 Schnitte | C12: 130 | D12: 120 | F12: 2-20 | G12: 0.04 | H12: €/(dt/km) | J12: 1161 | K12: LRA Böblingen | L12: 1161
A13: Ackergras | B13: 3 Schnitte | C13: 90 | D13: 70 | F13: 20-100 | G13: 0.02 | H13: €/(dt/km) | J13: 1170 | K13: LRA Ludwigsburg | L13: 1170
B14: 4 Schnitte | C14: 120 | D14: 80 | F14: über 100 | G14: 0.01 | H14: €/(dt/km) | J14: 1180 | K14: LRA Esslingen ULB | L14: 1180
B15: 5 Schnitte | C15: 150 | D15: 90 | J15: 1190 | K15: LRA Hohenlohekreis ULB | L15: 1190
A16: Klee/Luzerne | B16: niedrig | C16: 80 | D16: 80 | J16: 1200 | K16: LRA Schwäbisch Hall | L16: 1200
B17: hoch | C17: 110 | D17: 110 | F17: Ernteersparnis | G17: 3 | H17: €/dt FM | J17: 2100 | K17: LRA Rastatt | L17: 2100
A18: Grünland (Grünfutter/Silage) | B18: 2 Schnitte | C18: 50 | D18: 45 | J18: 2110 | K18: LRA Freudenstadt | L18: 2110
B19: 3 Schnitte | C19: 75 | D19: 60 | J19: 2121 | K19: LRA Karlsruhe Dezernat V | L19: 2121
B20: 4 Schnitte | C20: 90 | D20: 75 | J20: 2131 | K20: LRA Rhein-Neckar-Kreis | L20: 2131
B21: 5 Schnitte | C21: 120 | D21: 95 | J21: 2141 | K21: LRA Neckar-Odenwald-Kreis | L21: 2141
B22: 6 Schnitte | C22: 130 | D22: 105 | J22: 2150 | K22: LRA Enzkreis | L22: 2150
A23: Weide | B23: extensiv ungünstig | C23: 30 | D23: 30 | J23: 2160 | K23: LRA Calw | L23: 2160
B24: extensiv günstig | C24: 50 | D24: 40 | J24: 3100 | K24: LRA Schwarzwald-Baar-Kreis | L24: 3100
B25: intensiv ungünstig | C25: 80 | D25: 50 | J25: 3110 | K25: LRA Emmendingen | L25: 3110
B26: intensiv günstig | C26: 100 | D26: 85 | J26: 3120 | K26: LRA Breisgau-Hochschwarzwald ULB (Fachbereich 580 LW) | L26: 3120
A27: GPS | B27: niedrig | C27: 95 | D27: 55 | J27: 3122 | K27: LRA Breisgau-Hochschwarzwald ULB | L27: 3122
B28: mittel | C28: 110 | D28: 70 | J28: 3130 | K28: LRA Lörrach ULB | L28: 3130
B29: hoch | C29: 130 | D29: 90 | J29: 3140 | K29: LRA Ortenaukreis | L29: 3140
A30: Mähweide (2 Nutzung) | B30: niedrig | C30: 80 | D30: 65 | J30: 3151 | K30: LRA Konstanz | L30: 3151
B31: hoch | C31: 110 | D31: 90 | J31: 3160 | K31: LRA Rottweil ULB | L31: 3160
J32: 3170 | K32: LRA Tuttlingen | L32: 3170
J33: 3180 | K33: LRA Waldshut | L33: 3180
J34: 4100 | K34: LRA Zollernalbkreis | L34: 4100
J35: 4110 | K35: LRA Biberach | L35: 4110
J36: 4120 | K36: LRA Ravensburg ULB | L36: 4120
J37: 4131 | K37: LRA Reutlingen ULB | L37: 4131
J38: 4140 | K38: LRA Tübingen | L38: 4140
J39: 4150 | K39: LRA Sigmaringen ULB | L39: 4150
J40: 4160 | K40: LRA Bodenseekreis | L40: 4160
J41: 4170 | K41: LRA Alb-Donau-Kreis ULB | L41: 4170
